BEGIN:VCALENDAR
VERSION:2.0
PRODID:-//Stadtgeschichte München//DE
CALSCALE:GREGORIAN
BEGIN:VEVENT
UID:5505@stadtgeschichte-muenchen.de
SUMMARY:Vom Karl-Preis-Platz nach Maria Ramersdorf
DESCRIPTION:Die Führung beginnt beim Stadtteilladen kpp4, der im Rahmen der Sozialen Stadt München eingerichtet wurde.&nbsp;Die Aufwertung und Umgestaltung des Karl-Preis-Platzes mit seinem&nbsp;Melusinenbrunnen und der Skulptur des Blockwalzers war einer von&nbsp;vielen Maßnahmen, die im Rahmen des Städtebauförderprogramms&nbsp;umgesetzt wurde.&nbsp;Abseits der lauten Rosenheimer Straße führt der Weg durch die unter&nbsp;Ensembleschutz gestellte und idyllisch anmutende Weiskopfsiedlung,&nbsp;erbaut um die Jahrhundertwende. Auf dem Weg zur Kirche liegt&nbsp;die&nbsp;Führichschule&nbsp;(erbaut 1915), die eine über Jahrzehnte geführte „gehaltvolle\" Schulchronik vorweisen kann.&nbsp;Zum Schluss des Stadtviertelspaziergangs besuchen wir die Kirche Maria Ramersdorf, in der bis&nbsp;heute die Wallfahrt lebendig geblieben ist.
DTSTART:20131019T140000
DTEND:20131019T160000
LOCATION:vor dem Stadtteilladen kpp 4, Karl- Preis-Platz 4 
ORGANIZER:
END:VEVENT
END:VCALENDAR