BEGIN:VCALENDAR
VERSION:2.0
PRODID:-//Stadtgeschichte München//DE
CALSCALE:GREGORIAN
BEGIN:VEVENT
UID:5507@stadtgeschichte-muenchen.de
SUMMARY:St. Stephan und St. Michael in Berg am Laim
DESCRIPTION:St. Stephan, eine der ältesten Kirchen Münchens, war über Jahrhunderte Pfarrkirche von Berg am Laim, Baumkirchen und Echarding.&nbsp;Die Kirche liegt inmitten eines von einer Mauer umgebenen Friedhofs,&nbsp;dessen historische Anlagen bis heute liebevoll gepflegt werden. Die&nbsp;vorhandenen Grabmäier erzählen von der wechselvollen Geschichte&nbsp;des Kirchsprengeis und seiner Bewohner. Der mächtige Kurfürst und&nbsp;Kölner Erzbischof aus dem bayerischen Herrscherhaus, Clemens&nbsp;August, ließ das Rokokojuwel St. Michael anstelle der Josephsburg&nbsp;erbauen. Der&nbsp;Witteisbacher und die Michaelsbruderschaft engagierten&nbsp;die besten Künstler ihrer Zeit: J. M. Fischer, J. B. Zimmermann und&nbsp;J. B. Straub. Nun fertig renoviert, erstrahlt die Kirche mit ihren originalen Deckenfresken und&nbsp;kunstvollen Altären in neuem Glanz.
DTSTART:20140221T140000
DTEND:20140221T160000
LOCATION:vor St. Stephan • Baumkirchner Platz (bei der Neumarkter Str.)
ORGANIZER:
END:VEVENT
END:VCALENDAR