BEGIN:VCALENDAR
VERSION:2.0
PRODID:-//Stadtgeschichte München//DE
CALSCALE:GREGORIAN
BEGIN:VEVENT
UID:5508@stadtgeschichte-muenchen.de
SUMMARY:100 Jahre Eingemeindung
DESCRIPTION:Berg am Laim feiert in diesem Jahr seine 100-jährige Eingemeindung nach München. Seine erste urkundliche Erwähnung geht ins 9. Jahrhundert zurück. Seit langem bestimmt nicht mehr der Lehm das&nbsp;Leben in dieser Gegend. Derzeit wandelt sich das Wohn- und Gewerbegebiet einmal mehr. Wo früher Knödel, Öl und vieles mehr&nbsp;hergestellt&nbsp;wurden, soll nun nach spannender Zwischennutzung, z.B.&nbsp;als Ausgeh-Viertel, ein neues Stück München entstehen. Bei unserem&nbsp;Spaziergang werden wir diesem Wandel nachspüren, sodann vom&nbsp;Technischen Rathaus aus München und Berg am Laim mit einem&nbsp;ganz neuen Blick von oben sehen. Beenden werden wir die Tour mit&nbsp;einem Besuch beim auf München und Bayern spezialisierten Volk-&nbsp;Verlag, wo uns Herr Volk persönlich über seine&nbsp;Arbeit informieren&nbsp;wird.
DTSTART:20131125T140000
DTEND:20131125T163000
LOCATION: Ostbahnhof  Friedenstr. (am Ausgang)
ORGANIZER:
END:VEVENT
END:VCALENDAR