BEGIN:VCALENDAR
VERSION:2.0
PRODID:-//Stadtgeschichte München//DE
CALSCALE:GREGORIAN
BEGIN:VEVENT
UID:5510@stadtgeschichte-muenchen.de
SUMMARY:Dynamo - der nachhaltige Fahrradservice
DESCRIPTION:Als der soziale Betrieb 1986 in Haidhausen gegründet wurde, war das Unternehmen ein Nachhaltigkeits-Pionier, noch bevor der Begriff&nbsp;modern wurde: ökologisch durch Förderung des Radverkehrs, ökonomisch durch Recycling und sozial durch Förderung des zweiten&nbsp;Arbeitsmarktes. Heute ist Dynamo Fahrradservice Biss e.V. ein an-&nbsp;erkannter gemeinnütziger Verein, der die Förderung und Bildung&nbsp;von sozial benachteiligten Menschen zum Ziel hat. Zu diesem Zweck&nbsp;bietet der Verein in seinem Fahrradladen mit Recyclingwerkstatt&nbsp;22 Arbeitsplätze, auf denen sich ehemals arbeitslose Menschen&nbsp;beruflich qualifizieren. Es können Abschlüsse in anerkannten&nbsp;Ausbildungsberufen erworben werden, die mit einer Prüfung vor der&nbsp;Handwerkskammer abschließen. Dynamo kooperiert mit der Münchner Straßenzeitschrift BISS.
DTSTART:20131024T170000
DTEND:20131024T180000
LOCATION:Dynamo Fahrradservice, Haager Str. 11
ORGANIZER:
END:VEVENT
END:VCALENDAR