BEGIN:VCALENDAR
VERSION:2.0
PRODID:-//Stadtgeschichte München//DE
CALSCALE:GREGORIAN
BEGIN:VEVENT
UID:5512@stadtgeschichte-muenchen.de
SUMMARY:Bogenhausen: Vom bäuerlichen Gottesacker zum „Prominentenfriedhof\"
DESCRIPTION:Der Bogenhauser Friedhof geht auf das 8. Jahrhundert zurück und gehört wohl zu den ältesten christlichen&nbsp;Grabstätten im gesamten&nbsp;Münchner Raum. Als bäuerlicher Gottesacker trug und trägt er die&nbsp;Gräber von Ökonomen und Wirten und ihren Familien, von Pfarrern,&nbsp;Handwerkern und kleinen Leuten des alten Dorfes.&nbsp;Mit der Kgl. Sternwarte reihten sich bedeutende Astronomen hier&nbsp;ein. Durch den Zuzug in die neuen großbürgerlichen Wohnquartiere&nbsp;hat der alte Gottesacker in erweiterter Form sich zum Münchner Prominenten-Friedhof gewandelt. Zahlreiche Grabstätten bedeutender&nbsp;Gelehrter und populärer Künstler, von Wirtschaftsbossen und Kaufleuten übertreffen die Zahl der Gräber alter Bogenhauser Familien.
DTSTART:20131025T140000
DTEND:20131025T160000
LOCATION:St. Georg Bogenhausen
ORGANIZER:
END:VEVENT
END:VCALENDAR