BEGIN:VCALENDAR
VERSION:2.0
PRODID:-//Stadtgeschichte München//DE
CALSCALE:GREGORIAN
BEGIN:VEVENT
UID:5533@stadtgeschichte-muenchen.de
SUMMARY:Wo hört die Au auf? Wo fängt Giesing an?
DESCRIPTION:Die Giesinger Bauern hatten „seit Menschengedenken\" das Weiderecht in den Isarauen bis zur Ludwigsbrücke: Die Au gehörte zu Giesing. Als die wuchernde „Schwarzsiedlung\" Sitz eines herzoglichen&nbsp;Jagdschlosses und eines Klosters und schließlich Pfarrei wurde, gehörte Giesing zur Au. Der 1808 zur Stadt erhobenen Au schloss sich&nbsp;aber nur der Weiler Niedergiesing am Nockherberg an. Die Obere&nbsp;Falkenau und die Lohe wollten mit Obergiesing selbstständig bleiben;&nbsp;das Gebiet dazwischen blieb strittig, bis die Regulierung des Giesinger&nbsp;Bergs und der Bau der Witteisbacher Brücke vermeintlich eine neue&nbsp;Grenztrasse geschaffen hatten.
DTSTART:20131013T110000
DTEND:20131013T130000
LOCATION:Alten- und Service-Zentrum
ORGANIZER:
END:VEVENT
END:VCALENDAR