BEGIN:VCALENDAR
VERSION:2.0
PRODID:-//Stadtgeschichte München//DE
CALSCALE:GREGORIAN
BEGIN:VEVENT
UID:5535@stadtgeschichte-muenchen.de
SUMMARY:Das St.-Anna-Kircherl, „Lola Montez
DESCRIPTION:Der Rundgang beginnt bei der beliebten Wallfahrts- und „Hochzeitskirche\" St. Anna, einem Kleinod des bayerischen Rokoko. Drei Jahre&nbsp;war die Kirche wegen Renovierung geschlossen, seit Anfang 2012 ist&nbsp;sie wieder geöffnet. Auch der Vorplatz mit dem von Ludwig I. ge-&nbsp;stifteten Claude-Lorrain-Denkmal soll schöner werden. Entlang&nbsp;der&nbsp;Isarhangkante führt der Weg weiter bis zum skandalumwitterten so-&nbsp;genannten „Lola-Montez-Häuschen\" neben der Gaststätte Menterschwaige. Auf dem Spaziergang wird außerdem die Entwicklung der&nbsp;„Gartenstadt Harlaching\" zu einer malerischen Villenkolonie, aber&nbsp;auch deren fortschreitende Zerstörung durch Nachverdichtung,&nbsp;thematisiert. Prominente Harlachinger werden vorgestellt.
DTSTART:20131012T140000
DTEND:20131012T170000
LOCATION:St. Anna-Kirche (an der Hochleite) 
ORGANIZER:
END:VEVENT
END:VCALENDAR