BEGIN:VCALENDAR
VERSION:2.0
PRODID:-//Stadtgeschichte München//DE
CALSCALE:GREGORIAN
BEGIN:VEVENT
UID:5592@stadtgeschichte-muenchen.de
SUMMARY:Die Bio-Küche im „Alten Wirt\" in Grünwald
DESCRIPTION:Seit über 90 Jahren ist der „Alte Wirt\" in Grünwald im Familienbesitz der Familie Portenlänger und seit 2006 ein zertifizierter Bio-Betrieb.&nbsp;Nach der allgemeinen Klärung der Frage: „Was bedeutet Bio?\" geht&nbsp;es in die Küche:&nbsp;Regionale und saisonale Produkte zu verarbeiten ist&nbsp;für Küchenchef Karsten Bessai eine Herzensangelegenheit, wobei der&nbsp;Genuss an erster Stelle steht. Um nicht nur eine erstklassige, sondern&nbsp;auch&nbsp;biologisch optimale Qualität der in der Küche verwendeten Produkte zu gewährleisten, ist Vertrauen in die Lieferanten unbedingt&nbsp;notwendig. Am besten kennt man die Lieferanten persönlich - dies&nbsp;ist beim „Alten Wirt\" der Fall. Schließlich wird die Idee „weniger&nbsp;Fleisch ist mehr\" diskutiert, ganz praktisch anhand einiger Beispiele,&nbsp;die Verarbeitung und Zubereitung einiger Produkte gezeigt und der&nbsp;Geschmackssinn stimuliert: die Teilnehmer/innen dürfen nämlich&nbsp;gleich probieren!
DTSTART:20140118T150000
DTEND:20140118T170000
LOCATION:Alter Wirt Grünwald, Marktplatz 1 
ORGANIZER:
END:VEVENT
END:VCALENDAR