BEGIN:VCALENDAR
VERSION:2.0
PRODID:-//Stadtgeschichte München//DE
CALSCALE:GREGORIAN
BEGIN:VEVENT
UID:5601@stadtgeschichte-muenchen.de
SUMMARY:Führung durch das Rathaus
DESCRIPTION:Bei einer Führung durch das Rathaus erfahren Sie nicht nur etwas zu&nbsp;dessen Historie: Sie erleben die Arbeit in einem Fraktionsbüro und&nbsp;können mit Johann Stadler, seit 2002 für die CSU im Stadtrat, über&nbsp;aktuelle Themen der Stadtpolitik diskutieren.&nbsp;Danach können Sie einen Blick in die Juristische Bücherei werfen.&nbsp;Außerdem öffnen sich die Türen des großen Sitzungssaales. Im angrenzenden kleinen Sitzungssaal kann man noch einen Eindruck von&nbsp;der originalen Möblierung des Rathauses, wie sie vom Architekten&nbsp;Georg von Hauberrisser entworfen wurde, bekommen.
DTSTART:20131203T093000
DTEND:20131203T113000
LOCATION:Rathaus, an der Pforte (Eingang links neben dem Fischbrunnen) 
ORGANIZER:MVHS München Süd
END:VEVENT
END:VCALENDAR