BEGIN:VCALENDAR
VERSION:2.0
PRODID:-//Stadtgeschichte München//DE
CALSCALE:GREGORIAN
BEGIN:VEVENT
UID:5607@stadtgeschichte-muenchen.de
SUMMARY:Der Sendlinger Friedhof:
DESCRIPTION:Wenige Jahre vor der Eingemeindung Sendlings in die Stadt München wurde 1871 bis 1872 der Sendlinger Friedhof in der Albert-Roßhaupter-Straße angelegt und dazu ein neoromanisches Leichenhaus&nbsp;errichtet. In den bisherigen Kirchenfriedhöfen von St. Achaz und St.&nbsp;Margaret fanden seither keine Bestattungen mehr statt. Die Führung&nbsp;stellt einige der dort begrabenen Persönlichkeiten vor und erläutert&nbsp;Hintergründe der Sendlinger Geschichte vor Ort.
DTSTART:20131110T140000
DTEND:20131110T160000
LOCATION:Eingang des Sendlinger Friedhofs, Albert-Roßhaupter-Str. 5
ORGANIZER:MVHS München Süd
END:VEVENT
END:VCALENDAR