BEGIN:VCALENDAR
VERSION:2.0
PRODID:-//Stadtgeschichte München//DE
CALSCALE:GREGORIAN
BEGIN:VEVENT
UID:5610@stadtgeschichte-muenchen.de
SUMMARY:Genossenschaftliches Leben in Sendfing
DESCRIPTION:In Zeiten von erhöhtem Wohnungsbedarf sind Genossenschaften ein wichtiges Instrument - gerade in einer&nbsp;Großstadt, in der auch bezahlbarer Wohnraum dringend notwendig ist.&nbsp;2012 feierte die\'Münchener Kleinwohnungs-Baugenossenschaft eG&nbsp;ihren 100. Geburtstag. Bei einem Rundgang durch die Wohnanlage&nbsp;in Sendung werden grundsätzliche Informationen über genossenschaftliches Wohnen sowie die Besonderheiten der Wohnanlage.
DTSTART:20131108T153000
DTEND:20131108T170000
LOCATION: Albert-Roßhaupter-Str./Ecke Meindlstr. 
ORGANIZER:MVHS München Süd
END:VEVENT
END:VCALENDAR