BEGIN:VCALENDAR
VERSION:2.0
PRODID:-//Stadtgeschichte München//DE
CALSCALE:GREGORIAN
BEGIN:VEVENT
UID:5611@stadtgeschichte-muenchen.de
SUMMARY:Versorgung für die Großstadt: die Markthallen München
DESCRIPTION:Im Dezember 2005 hat der Stadtrat die Fusion der Eigenbetriebe&lt; Großmarkthalle und Schlachthof beschlossen, die zum 1.1.2007 in&nbsp;Kraft getreten ist. Die „Markthallen München\" sind - wie schon bisher - auch für den Betrieb der vier ständigen Lebensmittelmärkte und&nbsp;der städtischen Wochenmärkte zuständig. In der 1912 errichteten&nbsp;Großmarkthalle schlagen auf einer Fläche von 310000 Quadratmetern 270 Import- und Großhandelsfirmen 140 Warengattungen&nbsp;aus 83 Ländern im Wert von über 750 Millionen Euro um. Der&nbsp;Schlachthof ist der größte seiner Art in Mitteleuropa. Die Führung&nbsp;informiert über die Entwicklung des Eigenbetriebs und bietet die&nbsp;Gelegenheit zu einem Blick hinter die Kulissen.
DTSTART:20131105T083000
DTEND:20131105T103000
LOCATION:Großmarkthalle • Westtor (Thalkirchner Str.) 
ORGANIZER:MVHS München Süd
END:VEVENT
END:VCALENDAR