BEGIN:VCALENDAR
VERSION:2.0
PRODID:-//Stadtgeschichte München//DE
CALSCALE:GREGORIAN
BEGIN:VEVENT
UID:5612@stadtgeschichte-muenchen.de
SUMMARY:Moderne Energiewirtschaft
DESCRIPTION:Im Heizkraftwerk Süd hat ein „Generationenwechsel\" stattgefunden&nbsp;seit 1997 ist die Müllverbrennungsanlage stillgelegt und inzwischen&nbsp;rückgebaut worden. Auf der frei gewordenen Fläche ist ein neues&nbsp;hoch effizientes und aufgrund der sehr hohen Brennstoffausnutzung&nbsp;auch umweltfreundliches Heizkraftwerk entstanden. Im Verbund mit&nbsp;den anderen Energieerzeugungsanlagen der Stadtwerke hilft die&nbsp;Anlage so, die gesteckten Klimaziele aktiv anzustreben. Bei einem&nbsp;Rundgang bekommen Sie Einblick in die bisherige und zukünftige&nbsp;Energiegewinnung und werfen einen Blick in die bestehenden Kraftwerksanlagen. Außerdem fahren Sie Interessantes über die historische Entwicklung dieses Heizkraftwerkstandortes. Für die Führung ist festes Schuhwerk erforderlich. Sie sollten außerdem schwindelfrei sein.
DTSTART:20140131T140000
DTEND:20140131T163000
LOCATION:Heizkraftwerk Süd - Isartalstr. (Eingang: Schäftlarnstr. 15) 
ORGANIZER:MVHS München Süd
END:VEVENT
END:VCALENDAR