BEGIN:VCALENDAR
VERSION:2.0
PRODID:-//Stadtgeschichte München//DE
CALSCALE:GREGORIAN
BEGIN:VEVENT
UID:5614@stadtgeschichte-muenchen.de
SUMMARY:Sendung entdecken
DESCRIPTION:Im Jahr 782 wird die Siedlung Sendung zum ersten Mal in den Quellen erwähnt. Wir beginnen unseren&nbsp;Stadtteilspaziergang an der spät-&nbsp;barocken Kirche St. Margaret (Plinganserstraße 1), neben der 1705&nbsp;die berühmt-berüchtigte Sendlinger Bauernschlacht stattfand, die&nbsp;Wilhelm Lindenschmit im detailreichen Fresko schildert. Am Stemmerhof, dem ehemaligen Schmiedwirt und dem Maibaum mit Sendlinger Wappen lässt sich die bäuerliche Struktur des ursprünglichen&nbsp;Dorfes nachvollziehen. Über die neue St.-Margaret-Kirche, die Jugendstilhäuser am Harras und den Schuttberg erreichen wir den alten jüdischen Friedhof, auf dem bedeutende Persönlichkeiten wie der Dichter&nbsp;Michael Beer und der Galerist Heinrich Thannhauser begraben sind.
DTSTART:20131123T140000
DTEND:20131123T160000
LOCATION:Alte St.-Margaret-Kirche, Eingang, Plinganserstr. 1 (Alte Sendlinger Kirche)
ORGANIZER:MVHS München Süd
END:VEVENT
END:VCALENDAR