BEGIN:VCALENDAR
VERSION:2.0
PRODID:-//Stadtgeschichte München//DE
CALSCALE:GREGORIAN
BEGIN:VEVENT
UID:5634@stadtgeschichte-muenchen.de
SUMMARY:Rund um Heiligkreuz
DESCRIPTION:Der alte Dorfkern von Forstenried ist schon im 12. Jahrhundert bezeugt und steht heute als Gesamtheit unter Denkmalschutz. Mittelpunkt ist die im späten Mittelalter erbaute und vom Barock bereicherte Wallfahrtskirche. Gleich bei der Kirche erinnert der&nbsp;Derzbachhof aus dem 18. Jahrhundert an das bäuerliche Forstenried&nbsp;längst vergangener Tage - nicht alle Bauernhöfe haben den Lauf der&nbsp;Zeit so unbeschadet überstanden. Das barocke kurfürstliche Jagdhaus&nbsp;und Wirtshäuser mit ungewöhnlicher Geschichte gehören zu den&nbsp;weiteren Aspekten Alt-Forstenrieds. Erinnert wird auf dem Rundgang&nbsp;auch an Forstenrieder Persönlichkeiten wie den Vater Ludwig Thomas. In Kooperation mit Freunde des Ortskernes Forstenried e.V.
DTSTART:20131128T103000
DTEND:20131128T123000
LOCATION:Heiligkreuzkirche
ORGANIZER:MVHS München Süd
END:VEVENT
END:VCALENDAR