BEGIN:VCALENDAR
VERSION:2.0
PRODID:-//Stadtgeschichte München//DE
CALSCALE:GREGORIAN
BEGIN:VEVENT
UID:5640@stadtgeschichte-muenchen.de
SUMMARY:Die renovierte Klosterkirche der Benediktinerabtei Schäftlarn
DESCRIPTION:Die Klosterkirche der Benediktinerabtei Schäftlarn ist ein Schmuckstück im Isartal und immer eine Besichtigung wert. 1760 wurde sie&nbsp;geweiht, etwa 1764 wurde der letzte Altar angebracht. Solch ein&nbsp;Bauwerk will erhalten werden - über&nbsp;Jahre hinweg wurde die Kirche&nbsp;aufwändig saniert, seit Sommer 2011 sind die Renovierungsarbeiten&nbsp;abgeschlossen. Neben der Stabilisierung des Dachstuhls wurden&nbsp;unter anderem Stuckarbeiten vergoldet, Bilder gereinigt, Übermalungen beseitigt. Für Stuckaturen, Fresken und Bildhauerarbeiten&nbsp;zeichneten beim Bau der Kirche keine geringeren als Johann Baptist&nbsp;Zimmermann und Johann Baptist Straub verantwortlich. Was geschieht bei einer so aufwändigen Renovierung? Viele Fragen stellen&nbsp;sich hier, unter anderem die, wie man das Fresko in die Kuppel gebracht hat!
DTSTART:20131205T140000
DTEND:20131205T153000
LOCATION:Eingang zur Klosterkirche, Benediktinerabtei Schäftlarn
ORGANIZER:MVHS München Süd
END:VEVENT
END:VCALENDAR