BEGIN:VCALENDAR
VERSION:2.0
PRODID:-//Stadtgeschichte München//DE
CALSCALE:GREGORIAN
BEGIN:VEVENT
UID:5642@stadtgeschichte-muenchen.de
SUMMARY:Besuch im tibetisch-buddhistischen Püntsok-Rabten-Tempel
DESCRIPTION:Auf Wunsch mit Gebärdensprachdolmetscher und Kursassistenz. Nach der Besetzung Tibets durch China, den niedergeschlagenen&nbsp;Aufständen der Mönche und Kampas und der darauffolgenden&nbsp;Flucht des Dalai Lamas nach Nordindien, bildeten sich in der westlichen&nbsp;Welt viele verschiedene private Hilfsgruppen zur Erhaltung tibetischer&nbsp;Kultur und Weisheit. Sie bauten auch neue Tempel und holten gelehrte tibetische Rinpoches und Lamas in ihre Länder, um den Untergang der sehr alten Religion des tibetischen Buddhismus zu verhindern.&nbsp;Einer dieser Tempel steht in Neuhausen. Er gibt einen schönen Einblick in tibetische Kultgegenstände und buddhistische Religionsausübung. Blumen für den Altar sind herzlich willkommen. In Zusammenarbeit mit dem Fachgebiet Barrierefrei lernen.&nbsp;Wenn Sie einen Gebärdensprachdolmetscher oder eine&nbsp;Kursassistenz&nbsp;benötigen, mailen Sie bitte an barrierefrei-lernen@mvhs.de oder&nbsp;rufen uns an unter Telefon(089) 302008.
DTSTART:20131125T160000
DTEND:20131125T173000
LOCATION:Frundsbergstr. 31 Rgb
ORGANIZER:MVHS München West
END:VEVENT
END:VCALENDAR