BEGIN:VCALENDAR
VERSION:2.0
PRODID:-//Stadtgeschichte München//DE
CALSCALE:GREGORIAN
BEGIN:VEVENT
UID:5647@stadtgeschichte-muenchen.de
SUMMARY:Pasing im Umbruch - ein Stadtteil verändert sich
DESCRIPTION:Täglich sehen wir, wie sich Pasing verändert. Zahlreiche Baustellen prägen das Bild des Stadtteilzentrums. Wesentliche Teilmaßnahmen&nbsp;des Umbaus wie die Nordumgehung und der neue Busbahnhof sind&nbsp;bereits fertiggestellt.&nbsp;In der neu gestalteten Gleichmannstraße liegen&nbsp;bereits die Trambahnschienen. Mit der Neugestaltung der Straßen&nbsp;und Plätze wird die urbane Lebens- und Aufenthaltsqualität deutlich&nbsp;verbessert. Um die Bewohner und die&nbsp;Gewerbetreibenden Pasings&nbsp;bei diesen Veränderungen zu begleiten und zu unterstützen, haben&nbsp;die Stadt&nbsp;München und die Münchner Gesellschaft für Stadterneuerung für den Pasinger Kernbereich das neue Städtebauförderungsprogramm „Aktive Zentren Pasing\" eingerichtet. Derartige Veränderungen sorgen für eine Menge Gesprächsstoff und werfen noch&nbsp;mehr Fragen auf. Über die Umwälzungen im Stadtteil informiert Christian Bitter vom Stadtteilmanagement Pasing in einem Vortrag&nbsp;mit Präsentation. Im Anschluss Gespräch und Diskussion. Eine Veranstaltung im Rahmen von „ 1250 Jahre&nbsp;Pasing\".
DTSTART:20131114T190000
DTEND:20131114T203000
LOCATION:Volkshochschule - Bäckerstr. 14
ORGANIZER:MVHS München West
END:VEVENT
END:VCALENDAR