BEGIN:VCALENDAR
VERSION:2.0
PRODID:-//Stadtgeschichte München//DE
CALSCALE:GREGORIAN
BEGIN:VEVENT
UID:5650@stadtgeschichte-muenchen.de
SUMMARY:KraussMaffei Group - ein Weltunternehmen
DESCRIPTION:KraussMaffei zählt zu den weltweit führenden Herstellern für Kunststoffmaschinen und bietet als einziges Unternehmen drei wesentliche&nbsp;Maschinentechnologien für die Kunststoff und Gummi produzierende&nbsp;und verarbeitende Industrie an. Als Technologiepartner verknüpft das&nbsp;Unternehmen gezieltes Prozess-Know-how in den Verarbeitungs-&nbsp;verfahren mit innovativer Maschinentechnik zu spezialisierten und&nbsp;integrierten Kompiettlösungen. Nach einem kurzen Vortrag über die&nbsp;Geschichte von KraussMaffei geht der Rundgang zum Technikum Spritzguss, durch die Komponenten-Fertigung und in die Montage&nbsp;der Klein- und Großmaschinen. Anschließend lädt KraussMaffei zu&nbsp;einem kleinen Imbiss in der Werkskantine ein. Das Mindestalter beträgt 14 Jahre. Bitte feste Schuhe anziehen. Im Werk dürfen keine&nbsp;Fotos gemacht werden. Parkplätze sind nur begrenzt vorhanden.
DTSTART:20131011T100000
DTEND:20131011T131500
LOCATION:Hauptpforte KraussMaffei Kunststofftechnik - Krauss-Maffei-Str. 2
ORGANIZER:MVHS München West
END:VEVENT
END:VCALENDAR