BEGIN:VCALENDAR
VERSION:2.0
PRODID:-//Stadtgeschichte München//DE
CALSCALE:GREGORIAN
BEGIN:VEVENT
UID:5651@stadtgeschichte-muenchen.de
SUMMARY:75 Jahre Eingemeindung von Allach, Untermenzing, Obermenzing
DESCRIPTION:Allach, Untermenzing, Obermenzing, Ludwigsfeld und Solin wurden am 1. Dezember 1938 nicht ganz freiwillig in die so genannte&nbsp;„Hauptstadt der Bewegung\", die bayerische Landeshauptstadt&nbsp;München, eingemeindet.&nbsp;Dieser PowerPoint-Vortrag soll über die drei erstgenannten ehemaligen Dorfgemeinden einen kurzen Überblick über die urkundlichen&nbsp;Erstnennungen und die räumliche Entwicklung vermitteln und ausgewähltes, zumeist unbekanntes Bild- und Informationsmaterial über&nbsp;die Eingemeindungsfeierlichkeiten zeigen.
DTSTART:20131112T183000
DTEND:20131112T200000
LOCATION:Schulzentrum - Pfarrer-Grimm-Str. 1 
ORGANIZER:MVHS München West
END:VEVENT
END:VCALENDAR