BEGIN:VCALENDAR
VERSION:2.0
PRODID:-//Stadtgeschichte München//DE
CALSCALE:GREGORIAN
BEGIN:VEVENT
UID:5676@stadtgeschichte-muenchen.de
SUMMARY:Die Landsberger Straße: gestern - heute - morgen
DESCRIPTION:Die einstige „Straß\' auf München\" mit Bauernhöfen und einer kleinen Pestkapelle entwickelte sich im 19. Jahrhundert zur bedeutenden&nbsp;Verkehrsachse zwischen München und Pasing. Handel und Industrie&nbsp;ließen sich hier nieder, auch&nbsp;Ausflugslokale mit Biergärten und&nbsp;eigener Brauerei. Hinzu kamen diverse Mietshäuser, darunter einige&nbsp;Jugendstilbauten des Architekten Josef Lang (1878-1927). Durch&nbsp;den mittlerweile überhandnehmenden Verkehr verlor die Straße ihr&nbsp;früheres Erscheinungsbild und damit auch ihre Aufenthaltsqualität.&nbsp;Doch vieles soll sich ändern: Durch den Bau der „Nordumgehung&nbsp;Pasing\" bald entlastet, soll hier eine Allee entstehen, die zu einem&nbsp;neugestalteten, verkehrsberuhigten Ortszentrum zwischen Rathaus-&nbsp;und Bahnhofsplatz führt: Ein Teil der&nbsp;Landsberger Straße wird zum&nbsp;Boulevard. Eine Veranstaltung im Rahmen von „1250 Jahre Pasing\".
DTSTART:20131110T140000
DTEND:20131110T153000
LOCATION:Rathaus Pasing, Landsberger Str. 486 
ORGANIZER:MVHS München West
END:VEVENT
END:VCALENDAR