BEGIN:VCALENDAR
VERSION:2.0
PRODID:-//Stadtgeschichte München//DE
CALSCALE:GREGORIAN
BEGIN:VEVENT
UID:5677@stadtgeschichte-muenchen.de
SUMMARY:Radiführung zu Sonnenuhren entlang der Wurm
DESCRIPTION:Fast wie Perlen reihen sich die Sonnenuhren in Pasing-Obermenzing entlang der Wurm. Mit Bewegung spüren wir dem Rhythmus der&nbsp;Zeit nach: Wir radeln von der neuesten Sonnenuhr Pasings bis zur&nbsp;ältesten Münchens und&nbsp;betrachten vor Ort Konstruktion, Zeitanzeige&nbsp;und Gestaltung. Die Länge der geführten Strecke beträgt ca. 8 km&nbsp;(einfach), geht überwiegend auf Radwegen oder verkehrsarmen&nbsp;Straßen und ist für Familien mit Kindern ab 12 Jahren geeignet.&nbsp;Fahrradhelm und vorschriftsmäßige Radausrüstung sind erforderlich. Der Leiter übernimmt keine Haftung. Eine Veranstaltung im Rahmen von „1250 Jahre Pasing\".
DTSTART:20131012T130000
DTEND:20131012T150000
LOCATION:unter der Uhr am alten Pasinger Rathaus, Landsberger Str. 486, neben dem Brunnen
ORGANIZER:MVHS München West
END:VEVENT
END:VCALENDAR