BEGIN:VCALENDAR
VERSION:2.0
PRODID:-//Stadtgeschichte München//DE
CALSCALE:GREGORIAN
BEGIN:VEVENT
UID:5681@stadtgeschichte-muenchen.de
SUMMARY:Frisch vom Bauernhof!
DESCRIPTION:Kurze Wege für Fleisch, Obst, Gemüse, und Blumen sorgen für maximale Frische und Vitamine, erhalten lokale Arbeitsplätze und Kulturlandschaft, verringern das Verkehrsaufkommen und bieten Städtern&nbsp;Möglichkeiten der Naherholung. Im Raum Aubing-Lochhausen radeln&nbsp;wir durchs Aubinger Feld und die Aubinger Lohe und schauen uns&nbsp;an, was hier alles wächst. In Aubing besuchen wir Bauernhöfe, bei&nbsp;denen man noch direkt Milch, Kartoffeln, Eier, Fleisch und andere&nbsp;Erzeugnisse kaufen kann. Von einem professionellen Imker erfahren&nbsp;wir im Bienenheim alles über Bienenzucht (Radstrecke ca. 10 km).
DTSTART:20131019T100000
DTEND:20131019T140000
LOCATION:S4-Bahnhof Aubing, Nordausgang (Kirchenseite)
ORGANIZER:MVHS München West
END:VEVENT
END:VCALENDAR