BEGIN:VCALENDAR
VERSION:2.0
PRODID:-//Stadtgeschichte München//DE
CALSCALE:GREGORIAN
BEGIN:VEVENT
UID:640@stadtgeschichte-muenchen.de
SUMMARY:Münchionär gesucht
DESCRIPTION:&lt;p&gt;Spürsinn und Entdeckungslust sind wieder einmal gefragt: Bereits zum neunten Mal startet am &lt;b&gt;14. Mai&lt;/b&gt; die MVV-Stadtrallye, wie immer ausgearbeitet von STATTREISEN München e.V.&lt;/p&gt; &lt;p&gt;Die Entdeckertour, die ca. zwei Stunden dauert, führt zunächst in die Altstadt. In der Graggenau lebten nahe der Residenz viele Berühmtheiten, aber auch eine ganze Reihe wilder Tiere tummelte sich hier. Ein ganz anderes Bild zeigt sich im Dreimühlenviertel: Spuren eines alten â€žSchlossesâ€œ, oder war es doch nur die Fabrik eines Hoflieferanten? Beantwortet werden müssen Fragen zu geschichtsträchtigen oder auch schlicht besonderen Orten der Landeshauptstadt. Dazu wird es nötig sein, den jeweiligen Ort â€“ natürlich stets günstig mit dem MVV zu erreichen â€“ â€žunter die Lupe zu nehmenâ€œ.&lt;/p&gt; &lt;p&gt;Den glücklichen Gewinnern winken attraktive Preise.&lt;/p&gt; &lt;p&gt;&lt;b&gt;So machen Sie mit&lt;/b&gt;&lt;/p&gt; &lt;ul&gt; &lt;li&gt;Teilnehmen kann jeder, der eine gültige MVV-Fahrkarte vorzeigt.&lt;/li&gt; &lt;li&gt;Die Ausgabe der Fragebögen erfolgt von 11 bis 14 Uhr im Rathaus München in der Stadt-Information am Marienplatz â€“ solange Vorrat reicht.&lt;/li&gt; &lt;li&gt;Wer die richtige Lösungszahl noch am selben Tag zwischen 14.30 und 17.30 Uhr im CinemaxX am Isartor abgibt, nimmt an der Verlosung der Preise teil. Dort erhalten Sie dann auch alle Antworten auf die Fragen.&lt;/li&gt; &lt;/ul&gt; &lt;p&gt;&lt;b&gt;Das gibt es zu gewinnen&lt;/b&gt;&lt;/p&gt; &lt;p&gt;3 Übernachtungen mit Halbpension für 2 Personen in dem 4-Sterne Superior Hotel im Alpinresort &amp; Spa &quot;Übergossene Alm&quot; im Salzburger Land in Dienten am Hochkönig.&lt;/p&gt; &lt;ul&gt; &lt;li&gt;2 x 2 Gutscheine für das GOP-VarietÃ©-Theater inklusive Menu&lt;/li&gt; &lt;li&gt;2 x 2 Karten für den &quot;Münchner Sommernachtstraum&quot; am &lt;br /&gt; 23. Juli im Olympiapark mit Live-Bands und einem riesigen Feuerwerk&lt;/li&gt; &lt;li&gt;Je 2 Karten für den 28. und 29. Juni für das Musical &quot;Frühlings Erwachen&quot; im Deutschen Theater&lt;/li&gt; &lt;li&gt;Je 2 Karten für Klassik am Odeonsplatz der Kategorie 1 für den 16. und 17. Juli für das Konzert der Münchner Philharmoniker&lt;/li&gt; &lt;li&gt;1 x 100-Tage-Karte für CinemaxX Filmpalast am Isartor&lt;/li&gt; &lt;li&gt;2 Bücher &quot;Spaziergänge in die Vergangenheit&quot; sowie &lt;br /&gt; 2 Gutscheine für einen Stadtrundgang mit STATTREISEN München e.V.Â &lt;/li&gt; &lt;/ul&gt; &lt;p&gt;Der Rechtsweg ist wie immer ausgeschlossen. Viel Spaß beim Lösen der kniffligen Fragen!&lt;/p&gt;
DTSTART:20110514T110000
DTEND:20110514T173000
LOCATION:Stadtinformatiuon im Rathaus
ORGANIZER:STATTreisen München e.V.
END:VEVENT
END:VCALENDAR