BEGIN:VCALENDAR
VERSION:2.0
PRODID:-//Stadtgeschichte München//DE
CALSCALE:GREGORIAN
BEGIN:VEVENT
UID:645@stadtgeschichte-muenchen.de
SUMMARY:Schlösser, Kunst und Künstler im alten Schwabing
DESCRIPTION:&lt;p&gt;schwabing, über Jahrhunderte ein kleines Fischer- und Bauerndorf, rden in der Kurfürstenzeit mehrere Schlösser und Rittersitze errich-Wo waren sie? Wo und was sind sie heute? Vor 120 Jahren zog buntes Völkchen in das neue Stadtviertel Münchens: Künstler und Hlektuelle aller Art, darunter Heinrich und Thomas Mann, Olaf bransson, Franziska zu Reventlov, Alfred Kubin, Artur Kutscher i Paul Klee. Sie stellten die berühmt-berüchtigte â€žSchwabinger lerne&quot; dar, von der viele Impulse für die moderne Kunst und Lite-jr ausgingen.&lt;/p&gt; &lt;p&gt;ln Schwabing&#039;s Castles, Arts and Artists iuided Tour in German and English&lt;br /&gt; schwabing -for centuries a little fishing and farming village -?ral castles and manors were built in the times when Bavaria was d by the â€žKurfürsten&quot; (electors). Where were these castles to be id and what became of them? Around 1900 a creative and conformist bunch of people moved into the expanding urban rter: artists and intellectuals of every description, among them irich und Thomas Mann, Olaf Gulbransson, Franziska zu sntlov, Alfred Kubin, Artur Kutscher, and Paul Klee. All of them e the notorious â€žBoheme of Schwabing&quot; that had a great impact nodern art and literature.&lt;/p&gt;
DTSTART:20110716T150000
DTEND:20110716T170000
LOCATION:Ungerer/Ecke Dietlinden
ORGANIZER:MVHS München Mitte   
END:VEVENT
END:VCALENDAR