BEGIN:VCALENDAR
VERSION:2.0
PRODID:-//Stadtgeschichte München//DE
CALSCALE:GREGORIAN
BEGIN:VEVENT
UID:656@stadtgeschichte-muenchen.de
SUMMARY:Mit Politik auf Tuchfühlung: der Bayerische Landtag
DESCRIPTION:&lt;p&gt;In dieser Reihe für Bürgerinnen und Bürger des Münchner Nordens werden Orte aufgesucht, an denen politische Entscheidungen von Tragweite fallen. Ein Abgeordneter des Münchner Nordens führt auf einem Rundgang durch das Maximilianeum. Es wird diskutiert, welche Aufgaben der Landtag hat und wie er arbeitet, wie der Alltag eines Abgeordneten aussieht und wie er die Interessen der Bürger/innen vertritt, welche Probleme des Münchner Nordens im Landtag eine Rolle spielen.&lt;/p&gt;
DTSTART:20110526T170000
DTEND:20110526T190000
LOCATION:Maximilianeum, Westpforte (Isarseite)
ORGANIZER:MVHS München Mitte   
END:VEVENT
END:VCALENDAR