BEGIN:VCALENDAR
VERSION:2.0
PRODID:-//Stadtgeschichte München//DE
CALSCALE:GREGORIAN
BEGIN:VEVENT
UID:657@stadtgeschichte-muenchen.de
SUMMARY:Neue Stadtquartiere im Münchner Norden:
DESCRIPTION:&lt;p&gt;Bei der F&amp;uuml;hrung wird das stadtplanerische und architektonische Konzept dieses neuen Stadtviertels vorgestellt. Die &amp;bdquo;Parkstadt Schwabing&amp;quot; ist als hoch verdichtetes, urbanes und gleichzeitig gr&amp;uuml;nes Quartier konzipiert, als Fortsetzung von Schwabing n&amp;ouml;rdlich des Mittleren Rings. Sie greift nicht nur die st&amp;auml;dtebaulichen Aspekte der Schwabinger Erweiterungen um 1900 auf, sondern auch die der benachbarten Alten Heide, die ebenfalls von Theodor Fischer Anfang des 20. Jahrhunderts f&amp;uuml;r die damalige Zeit sehr modern geplant wurde. Ein Netz an &amp;ouml;ffentlichen Gr&amp;uuml;nfl&amp;auml;chen verbindet die Parkstadt mit den Nachbarquartieren. Als markante Begrenzung entstanden die 126 Meter hohen &amp;bdquo; Highlight Towers&amp;quot; im S&amp;uuml;den und der 84 Meter hohe &amp;bdquo;Skyline Tower&amp;quot; im Norden.&lt;/p&gt;
DTSTART:20110527T160000
DTEND:20110527T180000
LOCATION:Marcel-Breuer-Str, am Beginn des Parks
ORGANIZER:MVHS München Mitte   
END:VEVENT
END:VCALENDAR