BEGIN:VCALENDAR
VERSION:2.0
PRODID:-//Stadtgeschichte München//DE
CALSCALE:GREGORIAN
BEGIN:VEVENT
UID:658@stadtgeschichte-muenchen.de
SUMMARY:Architektonische Highlights im Untergrund
DESCRIPTION:&lt;p&gt;Mit der Er&amp;ouml;ffnung der U3 nach Moosach Ende 2010 wurde das M&amp;uuml;nchner U-Bahn-Netz wieder um zwei Bahnh&amp;ouml;fe erweitert. Gerade im M&amp;uuml;nchner Norden sind in den vergangenen Jahren architektonisch ungew&amp;ouml;hnliche, individuell gestaltete Bahnh&amp;ouml;fe entstanden, die nicht nur ihre Funktion erf&amp;uuml;llen, sondern auch als Bauwerke sehenswert sind. Bei einer Rundfahrt per U-Bahn zu den Stationen Westfriedhof, Georg-Brauchle-Ring, Moosach, Moosacher St.-Martins-Platz, Oberwiesenfeld und M&amp;uuml;nchner Freiheit erl&amp;auml;utern zwei Architekten der Stadt M&amp;uuml;nchen Details zum jeweiligen gestalterischen Konzept und zu seiner Umsetzung. MW-Fahrkarte notwendig.&lt;/p&gt;
DTSTART:20110804T160000
DTEND:20110804T183000
LOCATION:U-Bahnhof Westfriedhof, südliches Zwischengeschoss
ORGANIZER:MVHS München Mitte   
END:VEVENT
END:VCALENDAR