BEGIN:VCALENDAR
VERSION:2.0
PRODID:-//Stadtgeschichte München//DE
CALSCALE:GREGORIAN
BEGIN:VEVENT
UID:659@stadtgeschichte-muenchen.de
SUMMARY:Abwasserentsorgung in München
DESCRIPTION:&lt;p&gt;Die älteste Umweltschutzeinrichtung jeder Stadt ist die Abwasserentsorgung. Seit über 150 Jahren werden unter den Straßen der Stadt Kanäle gebaut und unterhalten. In ihnen fließt das Schmutzwasser aus Haushalten und Betrieben zu den Klärwerken. Mit Regenwasser vermischt, wird das Abwasser besonders nach Gewitterregen in großen unterirdischen Rückhaltebecken zwischengespeichert.&lt;/p&gt; &lt;p&gt;9.00 Uhr: Informationsvortrag über das Kanalnetz&lt;br /&gt; 10.00 Uhr: Besichtigung zweier ca. 100 Jahre alter Hauptkanäle (Akademiestraße und Ungererstraße) und einer Regenrückhalteanlage (Schenkendorfstraße)&lt;/p&gt; &lt;p&gt;Die Exkursion erfolgt mit der U-Bahn. Ab der U-Bahnstation â€žAlte Heide&quot; müssen noch ca. 10 bis 15 Minuten Fußweg bewältigt werden.&lt;/p&gt; 
DTSTART:20110513T090000
DTEND:20110513T130000
LOCATION:Volkshochschule -  Troppauer Str. 10
ORGANIZER:MVHS München Nord
END:VEVENT
END:VCALENDAR