BEGIN:VCALENDAR
VERSION:2.0
PRODID:-//Stadtgeschichte München//DE
CALSCALE:GREGORIAN
BEGIN:VEVENT
UID:660@stadtgeschichte-muenchen.de
SUMMARY:Die Allianz-Arena
DESCRIPTION:&lt;p&gt;Ursprünglich heftig diskutiert, ist die Allianz-Arena in Fröttmaning mittlerweile zu einem Wahrzeichen Münchens geworden. Ein Film zeigt die Entstehung der Arena mit ihrer außergewöhnlichen Hülle aus 2760 Luftkissen. Bei der anschließenden Führung besichtigen Sie neben dem Innenraum auch die Spielerkabinen und den Spielertunnel, den Presse Club und die Sponsoren Lounge.&lt;/p&gt;
DTSTART:20110511T100000
DTEND:20110511T121500
LOCATION:Treffpunkt wird rechtzeitig mitgeteilt 
ORGANIZER:MVHS München Mitte   
END:VEVENT
END:VCALENDAR