BEGIN:VCALENDAR
VERSION:2.0
PRODID:-//Stadtgeschichte München//DE
CALSCALE:GREGORIAN
BEGIN:VEVENT
UID:662@stadtgeschichte-muenchen.de
SUMMARY:„Portal Zukunft
DESCRIPTION:&lt;p&gt;Die Entwicklung und Entstehung des Produkts Auto kann man eindrucksvoll bei einem Rundgang im BMW Forschungs- und Innovationszentrum (FIZ) erleben, das im Münchner Norden hochqualifizierte Arbeitsplätze für 7000 Mitarbeiter/innen bietet. Forschung und Entwicklungen für neue Antriebstechniken, Leichtbau, Rapid-Techni-ken und zu Aspekten der aktiven und passiven Sicherheit werden erläutert und verschiedene Labors besichtigt. Die Arbeit in vernetzten Strukturen wird dabei deutlich gemacht.&lt;/p&gt;
DTSTART:20110627T130000
DTEND:20110627T150000
LOCATION:Eingangshalle, Haupteingang, Knorr-str. 147
ORGANIZER:MVHS München Mitte   
END:VEVENT
END:VCALENDAR