BEGIN:VCALENDAR
VERSION:2.0
PRODID:-//Stadtgeschichte München//DE
CALSCALE:GREGORIAN
BEGIN:VEVENT
UID:669@stadtgeschichte-muenchen.de
SUMMARY:Rund um die Tonne
DESCRIPTION:&lt;p&gt;Über das Drei-Tonnen-System werden pro Jahr mehr als 13 Millionen Müllbehälter geleert. Zuständig dafür ist der Abfallwirtschaftsbetrieb München (AWM) als kommunaler Eigenbetrieb mit 4 Betriebshöfen, 12 Wertstoffhöfen, einer Trockenfermentierungsanlage, einem Ge-brauchtwarenkaufhaus, 200 Müllfahrzeugen und einer eigenen Müllverbrennungsanlage. Im Alltag heißt das sammeln, entsorgen, verwerten und vermarkten. Dazu kommt die umfassende Abfallberatung über das Info-Center, über Internet und Broschüren: Was kann ich tun, wenn meine Tonne nicht geleert ist? Was kann ich in Wertstoffhöfen abgeben? Wie kann ich die Sperrmüllabholung anmelden? Was müss ich tun bei Beschädigungen durch Müllmänner? Hier erfahren Sie alles rund um die Tonne!&lt;/p&gt;
DTSTART:20110413T170000
DTEND:20110413T190000
LOCATION:AWM Foyer, Georg-Brauchle-Ring 29 (U1)
ORGANIZER:MVHS München Mitte   
END:VEVENT
END:VCALENDAR