BEGIN:VCALENDAR
VERSION:2.0
PRODID:-//Stadtgeschichte München//DE
CALSCALE:GREGORIAN
BEGIN:VEVENT
UID:674@stadtgeschichte-muenchen.de
SUMMARY:Max-Planck-lnstitut für Plasmaphysik (IPP) in Garching
DESCRIPTION:&lt;p&gt;An der Endhaltestelle der U6 in Garching haben sich in den letzten Jahren verschiedene Münchner Forschungsinstitute angesiedelt. Am Max-Planck-lnstitut für Plasmaphysik (IPP) mit seinen rund 1100 Mitarbeitern werden die Grundlagen für ein Fusionskraftwerk erforscht. Ähnlich wie die Sonne soll es Energie aus der Verschmelzung von leichten Atomkernen gewinnen. Auch Anlagen zur Plasmaheizung werden von den Forschern entwickelt. Bei der Führung werden die Forschungsbereiche vorgestellt und erläutert, wie unsere Energieversorgung in der Zukunft aussehen könnte.&lt;/p&gt;
DTSTART:20110713T140000
DTEND:20110713T153000
LOCATION:Pforte, Boltzmannstr. 2
ORGANIZER:MVHS München Mitte   
END:VEVENT
END:VCALENDAR