BEGIN:VCALENDAR
VERSION:2.0
PRODID:-//Stadtgeschichte München//DE
CALSCALE:GREGORIAN
BEGIN:VEVENT
UID:679@stadtgeschichte-muenchen.de
SUMMARY:Das Max-Planck-lnstitut für extraterrestrische Physik in Garching (MP
DESCRIPTION:&lt;p&gt;Die Forschung am MPE beschäftigt sich vorwiegend mit Themen der Astro- und Plasmaphysik und bringt Experimente sowie Instrumententwicklung mit Beobachtungen, Datenanalyse und theoretischen Arbeiten zusammen. Die wichtigsten Forschungsfelder der Astro-physik sind Geburt, Leben und Tod von Sternen, sind Galaxien und ihre Zentren, wo schwarze Löcher vermutet werden, und der gesamte Kosmos mit seiner Entwicklung.&lt;/p&gt; &lt;p&gt;Mit dem Besuch einer Arbeitsgruppe und eines Labors werden die Forschungs- und Arbeitsweisen von Astrophysikern sowie die Entwicklung und der Bau von astronomischen Instrumenten auch exemplarisch veranschaulicht.&lt;/p&gt;
DTSTART:20110914T140000
DTEND:20110914T160000
LOCATION:MPE Garching, an der Pforte Giessenbachstr,
ORGANIZER:MVHS München Mitte   
END:VEVENT
END:VCALENDAR