BEGIN:VCALENDAR
VERSION:2.0
PRODID:-//Stadtgeschichte München//DE
CALSCALE:GREGORIAN
BEGIN:VEVENT
UID:689@stadtgeschichte-muenchen.de
SUMMARY:Glockenklänge im Münchner Norden
DESCRIPTION:&lt;p&gt;Lernen Sie die Glocke als „verborgenes Musikinstrument&quot; - ausgehend von ihrer Geschichte - kennen: ihre Ausdruckskraft sowohl als einzelner Klangkörper als auch im Ensemble. Die Klangbeispiele stammen meist aus den Kirchen im Münchner Norden. Hautnah erleben Sie die Glockenmusik bei der abschließenden Turmbegehung in der Freimanner Kirche St. Albert.&lt;/p&gt; 
DTSTART:20110825T190000
DTEND:20110825T203000
LOCATION:Dominikussaal der Pfarrei St. Albert, Situlistr. 83
ORGANIZER:MVHS München Mitte   
END:VEVENT
END:VCALENDAR