BEGIN:VCALENDAR
VERSION:2.0
PRODID:-//Stadtgeschichte München//DE
CALSCALE:GREGORIAN
BEGIN:VEVENT
UID:693@stadtgeschichte-muenchen.de
SUMMARY:Soziales Engagement im Münchner Norden Radtour auf dem „Weg der Hof
DESCRIPTION:&lt;p&gt;Im Münchner Norden gibt es vielfältige Formen des Engagements für unterschiedlichste soziale Problemlagen von Menschen, die hier wohnen. Seit dem Ökumenischen Kirchentag 2010 verbindet ein sogenannter Weg der Hoffnung mit sieben Kunstwerken sieben soziale Einrichtungen und Kirchen im Hasenbergl, am Harthof und in Freimann. An den Stationen werden Projekte vorgestellt, in der sich Menschen um andere kümmern: etwa in der Schuldnerberatung, Altenpflege oder bei der Essensausgabe. Bei dieser Radtour â€žerfahren&quot; wir das soziale Netzwerk, das den lebens- und liebenswerten Münchner Norden mit ausmacht. In Kooperation mit der evangelischen Kirche Freimann.&lt;/p&gt;
DTSTART:20110715T160000
DTEND:20110715T190000
LOCATION:U-Bahnhof Dülferstr., Westseite
ORGANIZER:MVHS München Mitte   
END:VEVENT
END:VCALENDAR