BEGIN:VCALENDAR
VERSION:2.0
PRODID:-//Stadtgeschichte München//DE
CALSCALE:GREGORIAN
BEGIN:VEVENT
UID:703@stadtgeschichte-muenchen.de
SUMMARY:Münchner Plätze und Parks aus vier Epochen:
DESCRIPTION:&lt;p&gt;Die Anlage von Plätzen, Gärten und Parks war früher ein â€žHoheitsakt&quot;. Erst mit einem kgl. bayerischen Regierungsdekret von 1899 wurde der Gartenbau zur â€žPflichtaufgabe&quot;. Bei Neubauvierteln waren fünf Prozent der Grundfläche für Grünanlagen zu reservieren. Dies führte zunächst zu handtuchartigen Platzgestaltungen in neuen Wohngebieten. Selbst der â€žhochrangige&quot; Luitpoldpark (1911) zu Ehren des Prinzregenten brachte keinen Durchbruch. Nach dem Zweiten Weltkrieg bekamen Grünanlagen durch Bauboom und Straßenverkehr allmählich Priorität in der Stadtplanung. Vielfältige kunstreiche Geländegestaltungen und Wasserführungen (Olympiapark u.a.) bis hin zum Skulpturen- und Spielpark (Petuelpark) lassen, im modernen Gartenbau die neue Qualität erkennen.&lt;/p&gt;
DTSTART:20110710T110000
DTEND:20110710T130000
LOCATION:Karl-Theodor-Str./Ecke Borschtallee
ORGANIZER:MVHS München Mitte   
END:VEVENT
END:VCALENDAR