BEGIN:VCALENDAR
VERSION:2.0
PRODID:-//Stadtgeschichte München//DE
CALSCALE:GREGORIAN
BEGIN:VEVENT
UID:706@stadtgeschichte-muenchen.de
SUMMARY:Die koptische Gemeinde St. Mina
DESCRIPTION:&lt;p&gt;Seit 1996 wird St. Mina-erbaut 1851 und heute noch als Loreto-Kirche bekannt - von der koptisch-orthodoxen Gemeinde als Pfarrkirche genutzt. Der Name geht zurück auf einen der wichtigsten Heiligen der koptischen Kirche. Als Kopten bezeichnet man die Christen Ägyptens. Heute leben viele von ihnen verstreut in der westlichen Welt, u.a. in verschiedenen deutschen Städten, so auch in München. Eine große Bedeutung für die Kopten hat das alljährliche â€žFest der Hl. Familie in Ägypten&quot;, das Anfang Juni gefeiert wird. Davon und von der Geschichte St. Minas wird der Pfarrer der Gemeinde, Pater Deuscoros El Antony, erzählen, außerdem wird er die Ikonostase der Kirche erläutern.&lt;/p&gt; &lt;p&gt;Die Veranstaltung findet im Rahmen der Stadtteilkulturwoche Berg am Laim statt.&lt;/p&gt; 
DTSTART:20110609T180000
DTEND:20110609T193000
LOCATION:St. Mina (Loreto-Kirche) - Josephsburgstr. 24
ORGANIZER:MVHS München Mitte   
END:VEVENT
END:VCALENDAR