BEGIN:VCALENDAR
VERSION:2.0
PRODID:-//Stadtgeschichte München//DE
CALSCALE:GREGORIAN
BEGIN:VEVENT
UID:715@stadtgeschichte-muenchen.de
SUMMARY:Das alte Perlach zwischen Pfanzeltplatz und S-Bahn
DESCRIPTION:&lt;p&gt;Das ehemalige, einst eigenständige Bauerndorf Perlach ist heute ein belebter Stadtteil Münchens und älter als die Landeshauptstadt. An vielen Häusern und an teils versteckten Stellen kann man noch Daten und Hinweise auf das damalige Leben entdecken. Mit alten Fotos und Archivmaterial ergänzt, entsteht eine spannende Reise in die Vergangenheit. Es gibt auf dem Rundgang viel G&#039;schichterl zu erzählen: vom Leben der Bauern, dem geheimnisvollen Hachinger Bach, von den Überrheinern, den Gärtnereien, der Limonadenfabrik, der Branntweinbrennerei oder der ältesten protestantischen Gemeinde im Münchner Osten. Wer in Perlach wohnt oder hier soeben zugezogen ist, wird künftig mit einem ganz anderen Blick auf seinen Stadtteil unterwegs sein.&lt;/p&gt;
DTSTART:20110731T110000
DTEND:20110731T130000
LOCATION:Dorfbrunnen am Pfanzeltplatz
ORGANIZER:MVHS München Mitte   
END:VEVENT
END:VCALENDAR