BEGIN:VCALENDAR
VERSION:2.0
PRODID:-//Stadtgeschichte München//DE
CALSCALE:GREGORIAN
BEGIN:VEVENT
UID:716@stadtgeschichte-muenchen.de
SUMMARY:„Seitenweise München
DESCRIPTION:&lt;p&gt;... wurde 1997 durch Michael Volk gegründet und konnte sich in den vergangenen Jahren als einer der größten Anbieter im Bereich München-Bücher etablieren. Als echtes â€žMünchner Kindl&quot; legt er einen seiner Schwerpunkte auf Publikationen zur bayerischen Landeshauptstadt, zu ihren Stadtteilen, Bewohnern und Geschichten, wie z. B. â€žProminenz in Bogenhausen&quot; oder â€žUnsere Jahre in Berg am Laim und Ramersdorf&quot;. Bücher mit inhaltlichem Bezug zu Bayern bilden einen zweiten Schwerpunkt des Verlagsprogramms, das bei dieser Veranstaltung vorgestellt wird. Daneben wird der Verlagsgründer bei seinem Vortrag anhand von Neuerscheinungen die notwendigen Schritte vom Skript zum fertigen Buch erklären.&lt;/p&gt;
DTSTART:20110328T180000
DTEND:20110328T193000
LOCATION:Volk Verlag â€¢ Streitfeldstr. 19
ORGANIZER:MVHS München Mitte   
END:VEVENT
END:VCALENDAR