BEGIN:VCALENDAR
VERSION:2.0
PRODID:-//Stadtgeschichte München//DE
CALSCALE:GREGORIAN
BEGIN:VEVENT
UID:725@stadtgeschichte-muenchen.de
SUMMARY:Auf den Spuren des heiligen Emmeram in Englschalking
DESCRIPTION:&lt;p&gt;Die Lebensbeschreibung des heiligen Emmeram gehört zu den frü-hesten Quellen der Bayerischen Geschichte. Um das Jahr 770 wurde seine Biografie vom Freisinger Bischof Arbeo verfasst. Die Führung beginnt im historischen Ortskern mit seiner Dorfkirche St. Nikolaus, benannt nach dem â€žSchutzpatron der Reisenden&quot;. Seit der Erbauung im Mittelalter ist sie unverändert geblieben. Vermutlich befand sich ganz in der Nähe die alte Römerstraße, auf der man den Leichnam des Heiligen Emmeram um 700 von Aschheim zur Isar in Oberföhring transportierte. Allerlei Legenden über den Heiligen gibt es auf dem Weg nach St. Emmeram zu erzählen. Die Pfarrkirche wurde im Jahr 1932 zum Gedenken an ihn errichtet.&lt;/p&gt;
DTSTART:20110513T150000
DTEND:20110513T163000
LOCATION:St. Nikolaus - Flaschenträgerstr. 1
ORGANIZER:MVHS München Mitte   
END:VEVENT
END:VCALENDAR