BEGIN:VCALENDAR
VERSION:2.0
PRODID:-//Stadtgeschichte München//DE
CALSCALE:GREGORIAN
BEGIN:VEVENT
UID:727@stadtgeschichte-muenchen.de
SUMMARY:Generalprobe im Prinzregententheater
DESCRIPTION:&lt;p&gt;Besuch der Generalprobe â€žDidone Abbandonata&quot;, eine Oper von Johann Adolf Hasse. Vor der Vorstellung wird um 18.45 Uhr auch eine Werkeinführung im Gartensaal angeboten.&lt;/p&gt;
DTSTART:20110519T193000
DTEND:20110519T220000
LOCATION:Prinzregentenplatz 12, Theater-Foyer
ORGANIZER:MVHS München Mitte   
END:VEVENT
END:VCALENDAR