BEGIN:VCALENDAR
VERSION:2.0
PRODID:-//Stadtgeschichte München//DE
CALSCALE:GREGORIAN
BEGIN:VEVENT
UID:735@stadtgeschichte-muenchen.de
SUMMARY:Gartenstadt und Villenkolonie Harlaching
DESCRIPTION:&lt;p&gt;Der Spaziergang beginnt vor der Wallfahrts- und &amp;bdquo;Hochzeitskirche&amp;quot; St. Anna, einem Kleinod des bayerischen Rokoko und f&amp;uuml;hrt zun&amp;auml;chst zum sogenannten &amp;bdquo;Lola-Montez-H&amp;auml;uschen&amp;quot; neben der Gastst&amp;auml;tte Menterschwaige. Dies war einst ein skandalumwitterter Ort der &amp;Auml;ra K&amp;ouml;nig Ludwigs l. Anhand von Bildmaterial und vor einigen Harlachin-ger Villen wird dann die Entwicklung der &amp;bdquo;Gartenstadt Harlaching&amp;quot; zu einer malerischen Villenkolonie erl&amp;auml;utert und prominente Har-lachinger in Erinnerung gebracht.&lt;/p&gt;
DTSTART:20110814T140000
DTEND:20110814T160000
LOCATION:St. Anna-Kirche
ORGANIZER:MVHS München Mitte   
END:VEVENT
END:VCALENDAR