BEGIN:VCALENDAR
VERSION:2.0
PRODID:-//Stadtgeschichte München//DE
CALSCALE:GREGORIAN
BEGIN:VEVENT
UID:737@stadtgeschichte-muenchen.de
SUMMARY:JuP - Die Jugendpension - in Trägerschaft der Wohnhilfe e.V.
DESCRIPTION:&lt;p&gt;Diese Einrichtung bietet Obdach für in Notlage befindliche weibliche und männliche Jugendliche zwischen 14 und 21 Jahren. Die Aufnahme erfolgt nach Vermittlung der entsprechenden Fachdienste, wie Jugendamt, Streetwork oder auch durch Eigeninitiative. Ziel ist es, die Obdachlosigkeit und damit einhergehende Gefährdung von Jugendlichen zu verhindern. Der Besuch bei JuP informiert über die Maßnahmen der Jugendhilfe, Angebote der Pension, Grundregeln des Zusammenwohnens sowie den dazu notwendigen Mitarbeiterstab.&lt;/p&gt;
DTSTART:20110330T180000
DTEND:20110330T193000
LOCATION:JuP Jugendpension â€¢ Nockherstr. 60
ORGANIZER:MVHS München Mitte   
END:VEVENT
END:VCALENDAR