BEGIN:VCALENDAR
VERSION:2.0
PRODID:-//Stadtgeschichte München//DE
CALSCALE:GREGORIAN
BEGIN:VEVENT
UID:742@stadtgeschichte-muenchen.de
SUMMARY:Woher kommt das Grünwalder Wasser?
DESCRIPTION:&lt;p&gt;Kristallklar und frisch sprudelt es aus der Leitung - ganz selbstverständlich und zu jeder Tages- und Nachtzeit. Ob zum Trinken, Kochen, Duschen oder zu anderen Zwecken, Wasser ist ein lebensnotwendiges Gut. Dass das kostbare Nass aber immer zur Verfügung steht, erfordert eine ausgeklügelte Logistik und eine technisch hochwertige Ausstattung. Woher das Grünwalder Wasser nun kommt und wie es in die Haushalte gelangt, zeigt die Führung. Besichtigt werden die Pumpanlage und der Brunnen am Isarufer und der Hochbehälter in Straßlach. Ein eigener PKW ist nicht erforderlich, für Fahrgelegenheit ist gesorgt.&lt;/p&gt;
DTSTART:20110408T140000
DTEND:20110408T160000
LOCATION:Bauhof an der Tobrukstr.
ORGANIZER:MVHS München Mitte   
END:VEVENT
END:VCALENDAR