BEGIN:VCALENDAR
VERSION:2.0
PRODID:-//Stadtgeschichte München//DE
CALSCALE:GREGORIAN
BEGIN:VEVENT
UID:745@stadtgeschichte-muenchen.de
SUMMARY:Frühlingswanderung auf der linken Isarseite gegenüber von Grünwald
DESCRIPTION:&lt;p&gt;Auf diesem Rundweg vom Isarhochufer in Grünwald auf die gegenüberliegende Seite wird der Blick sowohl auf Frühlingsflora der Isar-landschaft und Wasserkraft als auch auf bekannte Persönlichkeiten und historische Hintergründe gerichtet. Ausgangspunkt ist die Grün-walder Brücke mit dem Brückenheiligen Nepomuk. Das an der Strecke liegende Gabriel-von-Seidl-Denkmal erinnert an den von ihm _1902 gegründeten Isartalverein zur Erhaltung des Isartals. Das Hügelgräberfeld aus der Hallstattzeit auf der linken Isarseite lässt frühzeitliche Geschichte lebendig werden. Der Rückweg führt im Talgrund zum Ausgangspunkt zurück. Einkehrmöglichkeit beim Brückenwirt.&lt;/p&gt;
DTSTART:20110527T140000
DTEND:20110527T170000
LOCATION:Beginn der Grünwalder Brücke, an der Nepomukstatue
ORGANIZER:MVHS München Mitte   
END:VEVENT
END:VCALENDAR