BEGIN:VCALENDAR
VERSION:2.0
PRODID:-//Stadtgeschichte München//DE
CALSCALE:GREGORIAN
BEGIN:VEVENT
UID:746@stadtgeschichte-muenchen.de
SUMMARY:Biologischer Landbau und „glückliche Kühe
DESCRIPTION:&lt;p&gt;Es gibt sie wirklich, die â€žglücklichen Kühe&quot;, z.B. auf dem Stollhof in Deining. Im Rahmen der Hofführung kann man sehen, dass die Tiere nicht angekettet sind, sondern dass es im Kuhstall drei Zonen gibt: eine Ruhezone, einen Futterstall und einen Laufhof. Sie bekommen keine Mischfutter mit Komponenten aus der Dritten Welt, keine Fisch- oder Tiermehle. Und wenn eine Kuh krank ist, wird sie homöopathisch behandelt.&lt;br /&gt; Dies garantiert dem Verbraucher biologisch einwandfreie Produkte, denn seit 1976 betreibt der Stollhof organisch-biologischen Anbau und ist Mitglied im BIOLAND-Verband e.V. Im Hof laden vor Ort werden die auf dem Stollhof erzeugten Produkte direkt vermarktet.&lt;/p&gt;
DTSTART:20110716T103000
DTEND:20110716T113000
LOCATION:Stollhof Deining â€¢ Klosterweg 1
ORGANIZER:MVHS München Mitte   
END:VEVENT
END:VCALENDAR