BEGIN:VCALENDAR
VERSION:2.0
PRODID:-//Stadtgeschichte München//DE
CALSCALE:GREGORIAN
BEGIN:VEVENT
UID:748@stadtgeschichte-muenchen.de
SUMMARY:Das Heizkraftwerk Nord
DESCRIPTION:&lt;p&gt;Das gigantische Heizkraftwerk Nord ist nicht allein für die Fernwärmeversorgung einer Großstadt zuständig, sondern übernimmt auch die Aufgabe der Müllverbrennung von bis zu siebzig Tonnen Hausmüll je Stunde. Bei der Führung durch die Anlage werden die technischen Einzelheiten erklärt. Die Probleme, die diese Einrichtung für den Münchner Nordosten aufwirft, wie z. B. der Stickoxidausstoß, die Schwefeldioxidemissionen sowie die Lärm- und Geruchsbelästigung werden diskutiert. Aus Sicherheitsgründen können keine Kinder an der Führung teilnehmen.&lt;/p&gt;
DTSTART:20110509T131500
DTEND:20110509T161500
LOCATION:Heizkraftwerk Nord, Pforte West - Münchner Str. 22
ORGANIZER:MVHS München Mitte   
END:VEVENT
END:VCALENDAR