BEGIN:VCALENDAR
VERSION:2.0
PRODID:-//Stadtgeschichte München//DE
CALSCALE:GREGORIAN
BEGIN:VEVENT
UID:750@stadtgeschichte-muenchen.de
SUMMARY:Durch die Parkanlage des Isar-Amper-Klinikums München Ost
DESCRIPTION:&lt;p&gt;Die Geschichte des Isar-Amper-Klinikums, Klinikum München-Ost (ehemals Bezirkskrankenhaus Haar), beginnt im 18./19. Jahrhundert, wo man sogenannte Irre und Wahnsinnige in â€žNarrenkeuchen&quot; hinter dem ehemaligen Heilig-Geist-Spital am Viktualienmarkt verwahrte. Das Krankenhaus Haar wurde in zwei Bauabschnitten bis 1905 bzw. 1912 auf einer Fläche von 95 ha erbaut. Der Bauabschnitt Eglfing (heute Haar l) mit weitläufiger Parkanlage ist im Landhausstil gehalten mit Platz für etwa 1000 psychisch kranke Menschen. Hier befinden sich eine katholische und eine evangelische Kirche sowie das Denkmal für die im Nationalsozialismus deportierten psychisch kranken Menschen. Im Bauabschnitt Haar II befinden sich heute viele Stationen in modernisierten denkmalgeschützten Jugendstilbauten und die einzigartige Jugendstilkirche des Architekten Richard Neithart.&lt;/p&gt;
DTSTART:20110702T150000
DTEND:20110702T180000
LOCATION:Isar-Amper-Klinikum Haar l, Verwaltung^- Fockestr. 72 
ORGANIZER:MVHS München Mitte   
END:VEVENT
END:VCALENDAR