BEGIN:VCALENDAR
VERSION:2.0
PRODID:-//Stadtgeschichte München//DE
CALSCALE:GREGORIAN
BEGIN:VEVENT
UID:751@stadtgeschichte-muenchen.de
SUMMARY:Von Maria Ramersdorf zum Karl-Preis-Platz
DESCRIPTION:&lt;p&gt;In der Kirche Maria Ramersdorf ist bis heute die Wallfahrt lebendig geblieben. Der sogenannte â€žFrauendreißiger&quot; (15. August bis 14. September) findet seit 1733 ohne Unterbrechung statt. Über Jahrzehnte wurde an der benachbarte Führichschule (erbaut 1915) eine gehaltvolle Schulchronik geführt. Abseits der lauten Rosen-heimer Straße liegt die unter Ensembleschutz gestellte Weiskopfsiedlung, erbaut um die Jahrhundertwende. Neugestaltet wurde der Karl-Preis-Platz mit seinem Melusinenbrunnen und der Skulptur des Blockwalzers. Hier befindet sich auch der Stadtteilladen kpp4, der im Rahmen der Sozialen Stadt München eingereichtet wurde und an dem die Führung endet. Siehe auch folgende Veranstaltung.&lt;/p&gt;
DTSTART:20110811T160000
DTEND:20110811T173000
LOCATION:Kirche Maria Ramersdorf, Ramersdorfer Str. 6
ORGANIZER:MVHS München Mitte   
END:VEVENT
END:VCALENDAR